Felt | Verdi |
AlreadyApplied | True |
Aperture | 7.1 |
ApertureValue | 7.1 |
BitsPerSample (1) | 8, 8, 8 |
BitsPerSample (2) | 8 8 8 |
BitsPerSample | 8 |
BlueHue | 0 |
BlueSaturation | 0 |
Brightness | 0 |
BrightnessValue (1) | 2.86999988548263 |
BrightnessValue | 2.869999885 |
CameraProfile | Embedded |
ChromaticAberrationB | +58 |
ChromaticAberrationR | -35 |
ColorComponents | 3 |
ColorMode | RGB |
ColorNoiseReduction | 0 |
ColorSpace (1) | Unknown (-1) |
ColorSpace | Uncalibrated |
Contrast | +18 |
ConvertToGrayscale | False |
CopyrightFlag | False |
CreateDate (1) | 2013:03:19 10:37:36+01:00 |
CreateDate | 2011:03:06 18:24:23 |
CreatorTool | Adobe Photoshop CS3 Macintosh |
DateTimeDigitized | 2011:03:06 18:24:23+01:00 |
DateTimeOriginal (1) | 2011:03:06 18:24:23+01:00 |
DateTimeOriginal | 2011:03:06 18:24:23 |
ExifImageHeight | 3056 |
ExifImageWidth | 4592 |
Exposure | 0.00 |
ExposureCompensation | 0 |
ExposureProgram | Program AE |
ExposureTime | 1/60 |
FillLight | 0 |
Flash | Off, Did not fire |
FlashFired | False |
FlashFunction | False |
FlashMode | Off |
FlashRedEyeMode | False |
FlashReturn | No return detection |
FNumber | 7.1 |
FocalLength | 16.0 mm |
FocalLength35efl | 16.0 mm |
Format | image/jpeg |
GreenHue | 0 |
GreenSaturation | -2 |
HasCrop | False |
HasSettings | True |
HighlightRecovery | 100 |
HueAdjustmentAqua | 0 |
HueAdjustmentBlue | 0 |
HueAdjustmentGreen | 0 |
HueAdjustmentMagenta | 0 |
HueAdjustmentOrange | 0 |
HueAdjustmentPurple | 0 |
HueAdjustmentRed | 0 |
HueAdjustmentYellow | 0 |
ICCProfileName | Adobe RGB (1998) |
ImageHeight | 3056 |
ImageSize | 4592x3056 |
ImageWidth | 4592 |
IncrementalTemperature | 0 |
IncrementalTint | 0 |
ISO | 800 |
LightSource | Daylight |
LightValue | 8.6 |
LuminanceAdjustmentAqua | 0 |
LuminanceAdjustmentBlue | 0 |
LuminanceAdjustmentGreen | 0 |
LuminanceAdjustmentMagenta | 0 |
LuminanceAdjustmentOrange | 0 |
LuminanceAdjustmentPurple | 0 |
LuminanceAdjustmentRed | 0 |
LuminanceAdjustmentYellow | 0 |
LuminanceSmoothing | 0 |
Make | SONY |
MaxApertureValue | 3.5 |
Megapixels | 14.0 |
MeteringMode | Multi-segment |
Model | SLT-A33 |
ModifyDate (1) | 2013:03:19 10:37:36+01:00 |
ModifyDate | 2013:03:19 10:37:36 |
Orientation | Horizontal (normal) |
ParametricDarks | 0 |
ParametricHighlights | 0 |
ParametricHighlightSplit | 75 |
ParametricLights | 0 |
ParametricMidtoneSplit | 50 |
ParametricShadows | 0 |
ParametricShadowSplit | 25 |
PhotometricInterpretation | RGB |
PlanarConfiguration | Chunky |
ProfileDescription | Adobe RGB (1998) |
Rating | 0 |
RawFileName | DSC00834.jpg |
RedHue | +8 |
RedSaturation | -23 |
SamplesPerPixel | 3 |
Saturation | +48 |
SaturationAdjustmentAqua | 0 |
SaturationAdjustmentBlue | 0 |
SaturationAdjustmentGreen | 0 |
SaturationAdjustmentMagenta | 0 |
SaturationAdjustmentOrange | 0 |
SaturationAdjustmentPurple | 0 |
SaturationAdjustmentRed | 0 |
SaturationAdjustmentYellow | 0 |
Shadows | 0 |
ShadowTint | 0 |
Sharpness | 11 |
ShutterSpeed | 1/60 |
ShutterSpeedValue | 1/60 |
Software | Adobe Photoshop CS3 Macintosh |
SplitToningBalance | 0 |
SplitToningHighlightHue | 0 |
SplitToningHighlightSaturation | 0 |
SplitToningShadowHue | 0 |
SplitToningShadowSaturation | 0 |
ToneCurve | 0, 0, 255, 255 |
ToneCurveName | Linear |
URL_List | |
Version | 4.0 |
Vibrance | -100 |
VignetteAmount | +38 |
VignetteMidpoint | 50 |
WhiteBalance | As Shot |